BEGIN:VCALENDAR
VERSION:2.0
PRODID:icalendar-ruby
CALSCALE:GREGORIAN
METHOD:PUBLISH
BEGIN:VEVENT
DTSTAMP:20260424T154930Z
UID:18-1163818@thehindutemple.org
DTSTART:20261022T230000Z
DTEND:20261023T000000Z
CLASS:PUBLIC
CREATED:20260424T105946
DESCRIPTION:
LAST-MODIFIED:20260424T105946
LOCATION:44955 Cherry Hill Road\, Canton\, MI 48188
SUMMARY:Sai Sandhya and Bhajans
URL;VALUE=URI:https://www.thehindutemple.org/events/sai-sandhya-and-bhajans
 /2026-10-22
ATTACH;FILENAME=Saibaba.jpg;FMTTYPE=image/jpeg:https://dq5pwpg1q8ru0.cloudf
 ront.net/2024/01/31/00/48/43/0e105849-341e-440e-8546-2b460d20cd9c/Saibaba.
 jpg
END:VEVENT
END:VCALENDAR
